BEGIN:VCALENDAR
PRODID:-//eluceo/ical//2.0/EN
VERSION:2.0
CALSCALE:GREGORIAN
BEGIN:VEVENT
UID:83a8d1061b5436fdfa36e105b31065ed
DTSTAMP:20260421T152802Z
SUMMARY:Mittagstreffen der Rotary-Frauen
DESCRIPTION:
URL:https://rotarysola.ch/fr/agenda/show/130847
DTSTART;TZID=Europe/Zurich:20211014T121500
DTEND;TZID=Europe/Zurich:20211014T133000
LOCATION:Restaurant Roter Turm\, 4500 Solothurn
CATEGORIES:Rotary
END:VEVENT
BEGIN:VTIMEZONE
TZID:Europe/Zurich
BEGIN:DAYLIGHT
DTSTART:20211014T121500
TZNAME:CEST
TZOFFSETTO:+0200
TZOFFSETFROM:+0200
END:DAYLIGHT
END:VTIMEZONE
END:VCALENDAR
