BEGIN:VCALENDAR
PRODID:-//eluceo/ical//2.0/EN
VERSION:2.0
CALSCALE:GREGORIAN
BEGIN:VEVENT
UID:4dd690d22a810aecf4ef5e198861e259
DTSTAMP:20260421T145646Z
SUMMARY:Mittagstreffen der Rotary-Frauen
DESCRIPTION:
URL:https://rotarysola.ch/fr/agenda/show/130849
DTSTART;TZID=Europe/Zurich:20211209T121500
DTEND;TZID=Europe/Zurich:20211209T133000
LOCATION:Restaurant Roter Turm\, 4500 Solothurn
CATEGORIES:Rotary
END:VEVENT
BEGIN:VTIMEZONE
TZID:Europe/Zurich
BEGIN:STANDARD
DTSTART:20211209T121500
TZNAME:CET
TZOFFSETTO:+0100
TZOFFSETFROM:+0100
END:STANDARD
END:VTIMEZONE
END:VCALENDAR
